BEGIN:VCALENDAR
VERSION:2.0
PRODID:-//Tukios.com/
BEGIN:VEVENT
UID:092adc10-4b1f-4cf6-ad05-942a528c943f@www.shortenandryan.com
DTSTAMP:20260423T175933Z
DTSTART:20260424T180000Z
DTEND:20260424T210000Z
SUMMARY:Visitation
DESCRIPTION:
URL:https://www.shortenandryan.com/obituaries/duell-lester
LOCATION:Mt Zion Baptist Church 100 E Broadway St  South Lebanon OH 45065
GEO:39.3713043;-84.2126291
END:VEVENT
END:VCALENDAR