BEGIN:VCALENDAR
VERSION:2.0
PRODID:-//Tukios.com/
BEGIN:VEVENT
UID:98f6b9b5-1d07-47dc-8d8b-c0baee2f1aec@www.shortenandryan.com
DTSTAMP:20260423T175911Z
DTSTART:20260425T170000Z
DTEND:20260425T180000Z
SUMMARY:Funeral Service
DESCRIPTION:
URL:https://www.shortenandryan.com/obituaries/duell-lester
LOCATION:Jellico Creek Baptist Church 9004 KY-92  Williamsburg KY 40769
GEO:36.6849812;-84.2704352
END:VEVENT
END:VCALENDAR